BEGIN:VCALENDAR
VERSION:2.0
PRODID:-//Tally Valley Golf Course - ECPv4.5.8//NONSGML v1.0//EN
CALSCALE:GREGORIAN
METHOD:PUBLISH
X-WR-CALNAME:Tally Valley Golf Course
X-ORIGINAL-URL:https://www.tallyvalleygolfcourse.com.au
X-WR-CALDESC:Events for Tally Valley Golf Course
BEGIN:VEVENT
DTSTART;TZID=Australia/Brisbane:20180204T140000
DTEND;TZID=Australia/Brisbane:20180204T173000
DTSTAMP:20180226T230349
CREATED:20180201T041607Z
LAST-MODIFIED:20180201T041607Z
UID:240-1517752800-1517765400@www.tallyvalleygolfcourse.com.au
SUMMARY:Regular Junior Competition
DESCRIPTION:Regular Sunday junior competition starting at 2PM \n
URL:https://www.tallyvalleygolfcourse.com.au/event/regular-junior-competition/
LOCATION:385 Guineas Creek Road\, Elanora\, QLD\, 4221\, Australia
CATEGORIES:All Events,Junior Events
ORGANIZER;CN="Tally%20Valley%20Golf%20Course":MAILTO:info@tvgc.com.au
END:VEVENT
BEGIN:VEVENT
DTSTART;TZID=Australia/Brisbane:20180211T140000
DTEND;TZID=Australia/Brisbane:20180211T173000
DTSTAMP:20180226T230349
CREATED:20180201T042644Z
LAST-MODIFIED:20180201T042743Z
UID:244-1518357600-1518370200@www.tallyvalleygolfcourse.com.au
SUMMARY:Regular Junior Competition
DESCRIPTION:Regular Sunday junior competition starting at 2PM \n
URL:https://www.tallyvalleygolfcourse.com.au/event/regular-junior-competition-2/
LOCATION:385 Guineas Creek Road\, Elanora\, QLD\, 4221\, Australia
CATEGORIES:All Events
ORGANIZER;CN="Tally%20Valley%20Golf%20Course":MAILTO:info@tvgc.com.au
END:VEVENT
BEGIN:VEVENT
DTSTART;TZID=Australia/Brisbane:20180218T140000
DTEND;TZID=Australia/Brisbane:20180218T170000
DTSTAMP:20180226T230349
CREATED:20180215T041956Z
LAST-MODIFIED:20180215T042224Z
UID:275-1518962400-1518973200@www.tallyvalleygolfcourse.com.au
SUMMARY:Regular junior event
DESCRIPTION:Regular junior event \n
URL:https://www.tallyvalleygolfcourse.com.au/event/regular-junior-event-2/
LOCATION:385 Guineas Creek Road\, Elanora\, QLD\, 4221\, Australia
CATEGORIES:All Events
END:VEVENT
BEGIN:VEVENT
DTSTART;TZID=Australia/Brisbane:20180225T140000
DTEND;TZID=Australia/Brisbane:20180225T170000
DTSTAMP:20180226T230349
CREATED:20180215T042129Z
LAST-MODIFIED:20180215T042129Z
UID:277-1519567200-1519578000@www.tallyvalleygolfcourse.com.au
SUMMARY:Monthly Medal Junior Competition
DESCRIPTION:Monthly Medal Junior Competition \n
URL:https://www.tallyvalleygolfcourse.com.au/event/monthly-medal-junior-competition/
LOCATION:385 Guineas Creek Road\, Elanora\, QLD\, 4221\, Australia
CATEGORIES:All Events
ORGANIZER;CN="Paul%20Williamson":MAILTO:pwilliamson@pgamember.org.au
END:VEVENT
END:VCALENDAR